Workbook
Name \0: '[1]Main Menu'!#REF!
Name \L: '[1]Main Menu'!#REF!
Name \M: '[1]Main Menu'!#REF!
Name \P: #REF!
Name ______SG3: #REF!
Name ______SG4: #REF!
Name ______SG5: #REF!
Name ______SG6: #REF!
Name ______YR3: #REF!
Name ______YR4: #REF!
Name ______YR5: #REF!
Name ______YR6: #REF!
Name _____SG3: #REF!
Name _____SG4: #REF!
Name _____SG5: #REF!
Name _____SG6: #REF!
Name _____YR3: #REF!
Name _____YR4: #REF!
Name _____YR5: #REF!
Name _____YR6: #REF!
Name ____HDR2: #REF!
Name ____SG1: #REF!
Name ____SG2: #REF!
Name ____SG3: #REF!
Name ____SG4: #REF!
Name ____SG5: #REF!
Name ____SG6: #REF!
Name ____YR1: #REF!
Name ____YR2: #REF!
Name ____YR3: #REF!
Name ____YR4: #REF!
Name ____YR5: #REF!
Name ____YR6: #REF!
Name ___SG1: #REF!
Name ___SG2: #REF!
Name ___SG3: #REF!
Name ___SG4: #REF!
Name ___SG5: #REF!
Name ___SG6: #REF!
Name ___YR1: #REF!
Name ___YR2: #REF!
Name ___YR3: #REF!
Name ___YR4: #REF!
Name ___YR5: #REF!
Name ___YR6: #REF!
Name __HDR2: #REF!
Name __SG1: #REF!
Name __SG2: #REF!
Name __SG3: #REF!
Name __SG4: #REF!
Name __SG5: #REF!
Name __SG6: #REF!
Name __YR1: #REF!
Name __YR2: #REF!
Name __YR3: #REF!
Name __YR4: #REF!
Name __YR5: #REF!
Name __YR6: #REF!
Name _735_kV_Loss_Factor: #REF!
Name _Act2: #REF!

Sheet Summary
C3: NLH-CA-017
C4: Original Analysis | D4: Revised Analysis
B5: Minimum | C5: ='Original Statistical Analysis'!M10 -> -1 | D5: ='REVISED Statistical Analysis'!M10 -> -1
B6: Maximum | C6: ='Original Statistical Analysis'!M11 -> 9.4786343 | D6: ='REVISED Statistical Analysis'!M11 -> 18.837093
B7: Variance | C7: ='Original Statistical Analysis'!M12 -> 0.35872062 | D7: ='REVISED Statistical Analysis'!M12 -> 0.86979957
B8: Standard Deviation | C8: ='Original Statistical Analysis'!M13 -> 0.5989329 | D8: ='REVISED Statistical Analysis'!M13 -> 0.93263046
B9: Average | C9: ='Original Statistical Analysis'!M14 -> 0.013596411 | D9: ='REVISED Statistical Analysis'!M14 -> 0.068852853
B10: Count | C10: ='Original Statistical Analysis'!M15 -> 591 | D10: ='REVISED Statistical Analysis'!M15 -> 710
B11: Lower Standard Deviation | C11: ='Original Statistical Analysis'!M16 -> -0.58533649 | D11: ='REVISED Statistical Analysis'!M16 -> -0.8637776
B12: Upper Standard Deviation | C12: ='Original Statistical Analysis'!M17 -> 0.61252931 | D12: ='REVISED Statistical Analysis'!M17 -> 1.0014833
B16: Notes:
B17: 1. This analysis contains data for projects that have closed from 2017-2025. As a result, the criteria for excluding projects from the analysis has evolved over time to exclude projects/ programs that were not reflective of Capital Budget Application Estimation Accuracy.
B18: 2. Allowance for Unforeseen projects have been excluded from the Revised Statistical Analysis.
B19: 3. Sign Convention: Positive Variance = Actual costs are higher than budget. Negative Variance = Actuals costs are lower than budget.
B20: 4. Project/ Program titles may not be exactly the same as those denoted in the Capital Budget Application and may contain some abbreviations due to character restrictions in Newfoundland and Labrador Hydro’s system.
B21: 5. This analysis includes projects that closed in each of the applicable years.

Sheet Original Analysis Data 
A1: Project # | B1: Year Started | C1: Year Closed | D1: JDE Title | E1: CBA / CAPEX Title | F1: Budget | G1: Actual Cost | H1: Var $ | I1: Var %
A2: 13251602 | B2: 2016 | C2: 2017 | D2: Replace Surge Arrestors | E2: Replace Surge Arrestors - Various Sites | F2: 197.4 | G2: 175.07062 | H2: =+G2-F2 -> -22.32938 | I2: =+H2/F2 -> -0.11311743
A3: 13251606 | B3: 2016 | C3: 2017 | D3: Upgrd Digital Fault Recorders | E3: Upgrade Digital Fault Recorders - Various Sites | F3: 502.5 | G3: 550.03684 | H3: =+G3-F3 -> 47.53684 | I3: =+H3/F3 -> 0.094600677
A4: 13251613 | B4: 2016 | C4: 2017 | D4: Upgrade Warehouse Lighting-BIF | E4: Upgrade Warehouse Lighting - Bishop's Falls | F4: 195.6 | G4: 121.66594 | H4: =+G4-F4 -> -73.93406 | I4: =+H4/F4 -> -0.37798599
A5: 14301601 | B5: 2016 | C5: 2017 | D5: CHD-Upgrd TS Mobile Substation | E5: Upgrade Terminal Station for Mobile Substation - Cow Head | F5: 484.7 | G5: 387.31429 | H5: =+G5-F5 -> -97.38571 | I5: =+H5/F5 -> -0.20091956 | Q5: Values
A6: 13251708 | B6: 2017 | C6: 2017 | D6: HRD-Upgrd Alum Supp Structures | E6: Upgrade Aluminum Support Structures - Holyrood | F6: 352.9 | G6: 190.81581 | H6: =+G6-F6 -> -162.08419 | I6: =+H6/F6 -> -0.45929212 | P6: Year Closed | Q6: Sum of Budget | R6: Sum of Actual Cost | S6: Sum of Var $
A7: 13251715 | B7: 2017 | C7: 2017 | D7: VAR-Upgr Equipment Foundations | E7: Upgrade Equipment Foundations - Various Sites | F7: 389.2 | G7: 245.33595 | H7: =+G7-F7 -> -143.86405 | I7: =+H7/F7 -> -0.36964042 | P7: 2017 | Q7: 51531.3 | R7: 48135.702 | S7: -3395.5984
A8: 12421614 | B8: 2016 | C8: 2017 | D8: Hydrometeorological Equipment | E8: Install Hydrometeorological Equipment - Various Sites | F8: 314.1 | G8: 183.34475 | H8: =+G8-F8 -> -130.75525 | I8: =+H8/F8 -> -0.41628542 | P8: 2018 | Q8: 128434.9 | R8: 114703.06 | S8: -13731.84
A9: 12811603 | B9: 2016 | C9: 2017 | D9: HLK-Rplc Cntrl/Comm Room A/C | E9: Replace Control Room/Communications Room Air Conditioning - Hinds Lake | F9: 94.3 | G9: 96.41676 | H9: =+G9-F9 -> 2.11676 | I9: =+H9/F9 -> 0.022447084 | P9: 2019 | Q9: 391099.13 | R9: 381220.74 | S9: -9878.3898
A10: 12901501 | B10: 2015 | C10: 2017 | D10: CAT-Stat.Serv BRKR Replacement | E10: Replace Station Service Breakers - Cat Arm | F10: 1008.3 | G10: 1036.8004 | H10: =+G10-F10 -> 28.5004 | I10: =+H10/F10 -> 0.028265794 | P10: 2020 | Q10: 87133.863 | R10: 65911.428 | S10: -21222.435
A11: 12931509 | B11: 2015 | C11: 2017 | D11: BDE-Upgrade Equipment Doors | E11: Upgrade Equipment Doors - Various Sites | F11: 348.5 | G11: 412.76522 | H11: =+G11-F11 -> 64.26522 | I11: =+H11/F11 -> 0.18440522 | P11: 2021 | Q11: 146289.13 | R11: 133293.91 | S11: -12995.216
A12: 12931514 | B12: 2015 | C12: 2017 | D12: EBBE-Accommodations/SepticSyst | E12: Replace Accommodations and Septic System - Ebbegunbaeg | F12: 1550.8 | G12: 2043.4628 | H12: =+G12-F12 -> 492.66282 | I12: =+H12/F12 -> 0.31768302 | P12: 2022 | Q12: 62943.075 | R12: 59177.844 | S12: -3765.2315
A13: 12931606 | B13: 2016 | C13: 2017 | D13: BDE-Rplc Station Service XFMR | E13: Replace PH1 Station Service Transformer - Bay d'Espoir | F13: 401.2 | G13: 533.1079 | H13: =+G13-F13 -> 131.9079 | I13: =+H13/F13 -> 0.3287834 | P13: 2023 | Q13: 93835.595 | R13: 89924.725 | S13: -3910.8701
A14: 12971702 | B14: 2017 | C14: 2017 | D14: HRD-Upgrade Access Roads | E14: Upgrade Holyrood Access Road - Holyrood | F14: 1162.6 | G14: 825.69315 | H14: =+G14-F14 -> -336.90685 | I14: =+H14/F14 -> -0.28978742 | P14: 2024 | Q14: 56323.17 | R14: 61026.144 | S14: 4702.9737
A15: 12421601 | B15: 2016 | C15: 2017 | D15: Rplc Battery Banks & Chargers | E15: Replace Battery Banks and Chargers - Various Sites | F15: 881.6 | G15: 645.24653 | H15: =+G15-F15 -> -236.35347 | I15: =+H15/F15 -> -0.26809604 | P15: 2025 | Q15: 38155.873 | R15: 45816.329 | S15: 7660.4555
A16: 12421602 | B16: 2016 | C16: 2017 | D16: Rpl MDR4000 MicrowaveRadioEast | E16: Replace MDR 4000 Microwave Radio East - Various Sites | F16: 1170.5 | G16: 1154.4371 | H16: =+G16-F16 -> -16.06293 | I16: =+H16/F16 -> -0.013723135 | P16: Grand Total | Q16: 1055746 | R16: 999209.88 | S16: -56536.152
A17: 12421603 | B17: 2016 | C17: 2017 | D17: Replace UPS Systems-HydroPlace | E17: Replace UPS Systems - Hydro Place | F17: 889.8 | G17: 978.53091 | H17: =+G17-F17 -> 88.73091 | I17: =+H17/F17 -> 0.099720061
A18: 12421608 | B18: 2016 | C18: 2017 | D18: MDR,HVY-Terminal Station A/C's | E18: Replace Air Conditioners - Various Sites | F18: 191.9 | G18: 196.26076 | H18: =+G18-F18 -> 4.36076 | I18: =+H18/F18 -> 0.022724127
A19: 12421613 | B19: 2016 | C19: 2017 | D19: Powerline Carrier-TL214/TL239 | E19: Replace Powerline Carrier - Various Sites | F19: 836.8 | G19: 762.10997 | H19: =+G19-F19 -> -74.69003 | I19: =+H19/F19 -> -0.089256728 | P19: Groupings
A20: 12421615 | B20: 2016 | C20: 2017 | D20: SBH-Upgrd Telecontrol Facility | E20: Upgrade Telecontrol Facilities - Sandy Brook Hill | F20: 564 | G20: 615.2495 | H20: =+G20-F20 -> 51.2495 | I20: =+H20/F20 -> 0.090867908
A21: 13321601 | B21: 2016 | C21: 2017 | D21: HWD/SVL-Replace Fuel Piping | E21: Replace Fuel Piping - Hardwoods and Stephenville | F21: 311.8 | G21: 267.87251 | H21: =+G21-F21 -> -43.92749 | I21: =+H21/F21 -> -0.14088355 | P21: -0.999 | Q21: -0.9
A22: 13321691 | B22: 2016 | C22: 2017 | D22: HWD&SVL GasGen EngineRefurbish | E22: Refurbish Gas Generator Engines - Hardwoods and Stephenville | F22: 3047.1 | G22: 2968.2856 | H22: =+G22-F22 -> -78.81435 | I22: =+H22/F22 -> -0.025865364 | P22: -0.899 | Q22: -0.8
A23: 13331405 | B23: 2014 | C23: 2017 | D23: Ugd D.Plt ProdDataCollectEqt | E23: Upgrade Diesel Plant Production Data Collection Equipment-Various | F23: 819.4 | G23: 842.73193 | H23: =+G23-F23 -> 23.33193 | I23: =+H23/F23 -> 0.028474408 | P23: -0.799 | Q23: -0.7
A24: 13331603 | B24: 2016 | C24: 2017 | D24: GYR-Instl Variable Freq.Drives | E24: Install Variable Frequency Drives - Grey River | F24: 169.9 | G24: 257.47281 | H24: =+G24-F24 -> 87.57281 | I24: =+H24/F24 -> 0.51543737 | P24: -0.699 | Q24: -0.6
A25: 13461605 | B25: 2016 | C25: 2017 | D25: BIF-Replace Service Bldg Roof | E25: Replace Roof on Service Building - Bishop's Falls | F25: 612.8 | G25: 616.34057 | H25: =+G25-F25 -> 3.54057 | I25: =+H25/F25 -> 0.0057776926 | P25: -0.599 | Q25: -0.5
A26: 14011604 | B26: 2016 | C26: 2017 | D26: NAN,CTW-Fire Suppression Systm | E26: Install Fire Protection Systems - Cartwright and Nain | F26: 4407.1 | G26: 3652.201 | H26: =+G26-F26 -> -754.899 | I26: =+H26/F26 -> -0.17129155 | P26: -0.499 | Q26: -0.4
A27: 14011606 | B27: 2016 | C27: 2017 | D27: Upgrade Transformers POV & CTW | E27: Upgrade Transformer Systems - Postville and Cartwright | F27: 465.2 | G27: 465.18888 | H27: =+G27-F27 -> -0.01112 | I27: =+H27/F27 -> -2.3903697e-05 | P27: -0.399 | Q27: -0.3
A28: 14361601 | B28: 2016 | C28: 2017 | D28: LAL-Additions for Load Growth | E28: Additions for Load Growth - L'anse au Loup | F28: 4175.6 | G28: 3710.7617 | H28: =+G28-F28 -> -464.83834 | I28: =+H28/F28 -> -0.11132253 | P28: -0.299 | Q28: -0.2
A29: 13491603 | B29: 2016 | C29: 2017 | D29: Replace Aircraft Makers-TL228 | E29: Replace Aircraft Markers at Grand Lake Crossing - TL228 | F29: 1567.9 | G29: 1486.4391 | H29: =+G29-F29 -> -81.46088 | I29: =+H29/F29 -> -0.051955405 | P29: -0.199 | Q29: -0.1
A30: 14281692 | B30: 2016 | C30: 2017 | D30: TL227 & L1 Upgrds Sally's Cove | E30: TL 227 Distribution Line Sally's Cove L1 | F30: 2250 | G30: 1894.4776 | H30: =+G30-F30 -> -355.52245 | I30: =+H30/F30 -> -0.15800998 | P30: -0.099 | Q30: -0.001
A31: 13331701 | B31: 2017 | C31: 2017 | D31: Overhaul Diesel Engines | E31: Overhaul Diesel Engines - Various Sites | F31: 2095.9 | G31: 1619.7798 | H31: =+G31-F31 -> -476.12019 | I31: =+H31/F31 -> -0.22716742 | P31: 0 | Q31: 0.099
A32: 12961701 | B32: 2017 | C32: 2017 | D32: HRD-Overhaul Turb.Valves Unt2 | E32: Overhaul Turbine Valves Unit 2 - Holyrood | F32: 2302.1 | G32: 2496.5952 | H32: =+G32-F32 -> 194.49516 | I32: =+H32/F32 -> 0.084485974 | P32: 0.1 | Q32: 0.199
... A40: 13251710 | B40: 2017 | C40: 2017 | D40: Upgrd Off.Facil/Cntrl Bldgs | E40: Upgrade Office Facilities & Control Buildings - Various Sites | F40: 2197.3 | G40: 1815.2033 | H40: =+G40-F40 -> -382.09674 | I40: =+H40/F40 -> -0.17389375 | P40: 0.9 | Q40: 0.999
A41: 13251711 | B41: 2017 | C41: 2017 | D41: Upgrade Line Depots-Various | E41: Line Depot Condition Assessment and Refurbishment Program - Various Sites | F41: 1458.8 | G41: 689.38747 | H41: =+G41-F41 -> -769.41253 | I41: =+H41/F41 -> -0.52742839
A42: 13461706 | B42: 2017 | C42: 2017 | D42: Install Fall Protection Equip | E42: Install Fall Protection Equipment - Various Sites | F42: 194.7 | G42: 161.26495 | H42: =+G42-F42 -> -33.43505 | I42: =+H42/F42 -> -0.17172599
A43: 13331703 | B43: 2017 | C43: 2017 | D43: VAR-Inspect Fuel Storage Tanks | E43: Inspect Fuel Storage Tanks - Various Sites | F43: 1058.8 | G43: 717.25811 | H43: =+G43-F43 -> -341.54189 | I43: =+H43/F43 -> -0.32257451
A44: 14011602 | B44: 2016 | C44: 2017 | D44: POV-Additions for Load Growth | E44: Additions for Load Growth - Postville - Black Tickle | F44: 1453.8 | G44: 881.77621 | H44: =+G44-F44 -> -572.02379 | I44: =+H44/F44 -> -0.39346801
A45: 13251709 | B45: 2017 | C45: 2017 | D45: GFL,BUC-Purch Backup Diesel SS | E45: Purchase Backup Diesel For Station Service - Grand Falls and Buchans | F45: 188.9 | G45: 149.27403 | H45: =+G45-F45 -> -39.62597 | I45: =+H45/F45 -> -0.20977221
A46: 20081710 | B46: 2017 | C46: 2017 | D46: Replace Roof - Hydro Place | E46: Replace Roof - Hydro Place | F46: 923.4 | G46: 503.50258 | H46: =+G46-F46 -> -419.89742 | I46: =+H46/F46 -> -0.45472972
A47: 13501705 | B47: 2017 | C47: 2017 | D47: Var-Install Demand Metering | E47: Install Demand Metering - Various Sites | F47: 89.7 | G47: 73.40133 | H47: =+G47-F47 -> -16.29867 | I47: =+H47/F47 -> -0.18170201
...

Sheet Original Statistical Analysis
C1: Values
A2: Var % | B2: CBA / CAPEX Title | C2: Sum of Budget | D2: Sum of Actual Cost | G2: Category | H2: Chart Data | I2: Stats Data
A3: -1 | B3: Integrate Renewable PH2 - Mary's Harbour | C3: 498 | D3: 1.4551915e-14 | G3: {=_xlfn.IFS( A3<=-1,"(>=100%)", A3<=-0.9,"(99.9%-90%)", A3<=-0.8,"(89.9%-80%)", A3<=-0.7,"(79.9%-70%)", A3<=-0.6,"(69.9%-60%)", A3<=-0.5,"(59.9%-50%)", A3<=-0.4,"(49.9%-40%)", A3<=-0.3,"(39.9%-30%)", A3<=-0.2,"(29.9%-20%)", A3<=-0.1,"(19.9%-10%)", A3<0,"(9.9%-0.01%)", A3<=0.0999,"0%-9.9%", A3<=0.1999,"10%-19.9%", A3<=0.2999,"20%-29.9%", A3<=0.3999,"30%-39.9%", A3<=0.4999,"40%-49.9%", A3<=0.5999,"50%-59.9%", A3<=0.6999,"60%-69.9%", A3<=0.7999,"70%-79.9%", A3<=0.8999,"80%-89.9%", A3<=0.999,"90%-99.9%", A3<=5,">100%", A3>5,">500%" )} -> (>=100%) | H3: =IF(A3<>"",A3,#N/A) -> -1 | I3: =IF(ISNUMBER(H3),H3,"") -> -1 | J3: =IF(ISNUMBER(I3),IF(AND(I3>=($M$14-$M$13),I3<=($M$14+$M$13)),1,0),"") -> 0
A4: -1 | B4: Wabush L34 and L35 Protective Relays - CIAC | C4: 259.302 | D4: 0 | G4: {=_xlfn.IFS( A4<=-1,"(>=100%)", A4<=-0.9,"(99.9%-90%)", A4<=-0.8,"(89.9%-80%)", A4<=-0.7,"(79.9%-70%)", A4<=-0.6,"(69.9%-60%)", A4<=-0.5,"(59.9%-50%)", A4<=-0.4,"(49.9%-40%)", A4<=-0.3,"(39.9%-30%)", A4<=-0.2,"(29.9%-20%)", A4<=-0.1,"(19.9%-10%)", A4<0,"(9.9%-0.01%)", A4<=0.0999,"0%-9.9%", A4<=0.1999,"10%-19.9%", A4<=0.2999,"20%-29.9%", A4<=0.3999,"30%-39.9%", A4<=0.4999,"40%-49.9%", A4<=0.5999,"50%-59.9%", A4<=0.6999,"60%-69.9%", A4<=0.7999,"70%-79.9%", A4<=0.8999,"80%-89.9%", A4<=0.999,"90%-99.9%", A4<=5,">100%", A4>5,">500%" )} -> (>=100%) | H4: =IF(A4<>"",A4,#N/A) -> -1 | I4: =IF(ISNUMBER(H4),H4,"") -> -1 | J4: =IF(ISNUMBER(I4),IF(AND(I4>=($M$14-$M$13),I4<=($M$14+$M$13)),1,0),"") -> 0
A5: -0.92032583 | B5: Refurbish Hydraulic Structures - BDE (2019-20) | C5: 5036.5 | D5: 401.27898 | G5: {=_xlfn.IFS( A5<=-1,"(>=100%)", A5<=-0.9,"(99.9%-90%)", A5<=-0.8,"(89.9%-80%)", A5<=-0.7,"(79.9%-70%)", A5<=-0.6,"(69.9%-60%)", A5<=-0.5,"(59.9%-50%)", A5<=-0.4,"(49.9%-40%)", A5<=-0.3,"(39.9%-30%)", A5<=-0.2,"(29.9%-20%)", A5<=-0.1,"(19.9%-10%)", A5<0,"(9.9%-0.01%)", A5<=0.0999,"0%-9.9%", A5<=0.1999,"10%-19.9%", A5<=0.2999,"20%-29.9%", A5<=0.3999,"30%-39.9%", A5<=0.4999,"40%-49.9%", A5<=0.5999,"50%-59.9%", A5<=0.6999,"60%-69.9%", A5<=0.7999,"70%-79.9%", A5<=0.8999,"80%-89.9%", A5<=0.999,"90%-99.9%", A5<=5,">100%", A5>5,">500%" )} -> (99.9%-90%) | H5: =IF(A5<>"",A5,#N/A) -> -0.92032583 | I5: =IF(ISNUMBER(H5),H5,"") -> -0.92032583 | J5: =IF(ISNUMBER(I5),IF(AND(I5>=($M$14-$M$13),I5<=($M$14+$M$13)),1,0),"") -> 0
A6: -0.88554089 | B6: Purchase Office Equipment | C6: 60.9 | D6: 6.97056 | G6: {=_xlfn.IFS( A6<=-1,"(>=100%)", A6<=-0.9,"(99.9%-90%)", A6<=-0.8,"(89.9%-80%)", A6<=-0.7,"(79.9%-70%)", A6<=-0.6,"(69.9%-60%)", A6<=-0.5,"(59.9%-50%)", A6<=-0.4,"(49.9%-40%)", A6<=-0.3,"(39.9%-30%)", A6<=-0.2,"(29.9%-20%)", A6<=-0.1,"(19.9%-10%)", A6<0,"(9.9%-0.01%)", A6<=0.0999,"0%-9.9%", A6<=0.1999,"10%-19.9%", A6<=0.2999,"20%-29.9%", A6<=0.3999,"30%-39.9%", A6<=0.4999,"40%-49.9%", A6<=0.5999,"50%-59.9%", A6<=0.6999,"60%-69.9%", A6<=0.7999,"70%-79.9%", A6<=0.8999,"80%-89.9%", A6<=0.999,"90%-99.9%", A6<=5,">100%", A6>5,">500%" )} -> (89.9%-80%) | H6: =IF(A6<>"",A6,#N/A) -> -0.88554089 | I6: =IF(ISNUMBER(H6),H6,"") -> -0.88554089 | J6: =IF(ISNUMBER(I6),IF(AND(I6>=($M$14-$M$13),I6<=($M$14+$M$13)),1,0),"") -> 0
A7: -0.815748 | B7: Replace Insulators - Various (2019-20) | C7: 989 | D7: 182.22523 | G7: {=_xlfn.IFS( A7<=-1,"(>=100%)", A7<=-0.9,"(99.9%-90%)", A7<=-0.8,"(89.9%-80%)", A7<=-0.7,"(79.9%-70%)", A7<=-0.6,"(69.9%-60%)", A7<=-0.5,"(59.9%-50%)", A7<=-0.4,"(49.9%-40%)", A7<=-0.3,"(39.9%-30%)", A7<=-0.2,"(29.9%-20%)", A7<=-0.1,"(19.9%-10%)", A7<0,"(9.9%-0.01%)", A7<=0.0999,"0%-9.9%", A7<=0.1999,"10%-19.9%", A7<=0.2999,"20%-29.9%", A7<=0.3999,"30%-39.9%", A7<=0.4999,"40%-49.9%", A7<=0.5999,"50%-59.9%", A7<=0.6999,"60%-69.9%", A7<=0.7999,"70%-79.9%", A7<=0.8999,"80%-89.9%", A7<=0.999,"90%-99.9%", A7<=5,">100%", A7>5,">500%" )} -> (89.9%-80%) | H7: =IF(A7<>"",A7,#N/A) -> -0.815748 | I7: =IF(ISNUMBER(H7),H7,"") -> -0.815748 | J7: =IF(ISNUMBER(I7),IF(AND(I7>=($M$14-$M$13),I7<=($M$14+$M$13)),1,0),"") -> 0
A8: -0.81384549 | B8: Security Improvements - Hydro Place | C8: 45.5 | D8: 8.47003 | G8: {=_xlfn.IFS( A8<=-1,"(>=100%)", A8<=-0.9,"(99.9%-90%)", A8<=-0.8,"(89.9%-80%)", A8<=-0.7,"(79.9%-70%)", A8<=-0.6,"(69.9%-60%)", A8<=-0.5,"(59.9%-50%)", A8<=-0.4,"(49.9%-40%)", A8<=-0.3,"(39.9%-30%)", A8<=-0.2,"(29.9%-20%)", A8<=-0.1,"(19.9%-10%)", A8<0,"(9.9%-0.01%)", A8<=0.0999,"0%-9.9%", A8<=0.1999,"10%-19.9%", A8<=0.2999,"20%-29.9%", A8<=0.3999,"30%-39.9%", A8<=0.4999,"40%-49.9%", A8<=0.5999,"50%-59.9%", A8<=0.6999,"60%-69.9%", A8<=0.7999,"70%-79.9%", A8<=0.8999,"80%-89.9%", A8<=0.999,"90%-99.9%", A8<=5,">100%", A8>5,">500%" )} -> (89.9%-80%) | H8: =IF(A8<>"",A8,#N/A) -> -0.81384549 | I8: =IF(ISNUMBER(H8),H8,"") -> -0.81384549 | J8: =IF(ISNUMBER(I8),IF(AND(I8>=($M$14-$M$13),I8<=($M$14+$M$13)),1,0),"") -> 0
A9: -0.81169051 | B9: Stage 2 Emergency Diesel Generator Refurbishment - Holyrood | C9: 49.5 | D9: 9.32132 | G9: {=_xlfn.IFS( A9<=-1,"(>=100%)", A9<=-0.9,"(99.9%-90%)", A9<=-0.8,"(89.9%-80%)", A9<=-0.7,"(79.9%-70%)", A9<=-0.6,"(69.9%-60%)", A9<=-0.5,"(59.9%-50%)", A9<=-0.4,"(49.9%-40%)", A9<=-0.3,"(39.9%-30%)", A9<=-0.2,"(29.9%-20%)", A9<=-0.1,"(19.9%-10%)", A9<0,"(9.9%-0.01%)", A9<=0.0999,"0%-9.9%", A9<=0.1999,"10%-19.9%", A9<=0.2999,"20%-29.9%", A9<=0.3999,"30%-39.9%", A9<=0.4999,"40%-49.9%", A9<=0.5999,"50%-59.9%", A9<=0.6999,"60%-69.9%", A9<=0.7999,"70%-79.9%", A9<=0.8999,"80%-89.9%", A9<=0.999,"90%-99.9%", A9<=5,">100%", A9>5,">500%" )} -> (89.9%-80%) | H9: =IF(A9<>"",A9,#N/A) -> -0.81169051 | I9: =IF(ISNUMBER(H9),H9,"") -> -0.81169051 | J9: =IF(ISNUMBER(I9),IF(AND(I9>=($M$14-$M$13),I9<=($M$14+$M$13)),1,0),"") -> 0
A10: -0.79764889 | B10: Replace Insulators - Various Sites | C10: 971.9 | D10: 196.66504 | G10: {=_xlfn.IFS( A10<=-1,"(>=100%)", A10<=-0.9,"(99.9%-90%)", A10<=-0.8,"(89.9%-80%)", A10<=-0.7,"(79.9%-70%)", A10<=-0.6,"(69.9%-60%)", A10<=-0.5,"(59.9%-50%)", A10<=-0.4,"(49.9%-40%)", A10<=-0.3,"(39.9%-30%)", A10<=-0.2,"(29.9%-20%)", A10<=-0.1,"(19.9%-10%)", A10<0,"(9.9%-0.01%)", A10<=0.0999,"0%-9.9%", A10<=0.1999,"10%-19.9%", A10<=0.2999,"20%-29.9%", A10<=0.3999,"30%-39.9%", A10<=0.4999,"40%-49.9%", A10<=0.5999,"50%-59.9%", A10<=0.6999,"60%-69.9%", A10<=0.7999,"70%-79.9%", A10<=0.8999,"80%-89.9%", A10<=0.999,"90%-99.9%", A10<=5,">100%", A10>5,">500%" )} -> (79.9%-70%) | H10: =IF(A10<>"",A10,#N/A) -> -0.79764889 | I10: =IF(ISNUMBER(H10),H10,"") -> -0.79764889 | J10: =IF(ISNUMBER(I10),IF(AND(I10>=($M$14-$M$13),I10<=($M$14+$M$13)),1,0),"") -> 0 | L10: Min | M10: =MIN(I3:I593) -> -1
A11: -0.762194 | B11: Replace Insulators - Various Sites | C11: 961.8 | D11: 228.72181 | G11: {=_xlfn.IFS( A11<=-1,"(>=100%)", A11<=-0.9,"(99.9%-90%)", A11<=-0.8,"(89.9%-80%)", A11<=-0.7,"(79.9%-70%)", A11<=-0.6,"(69.9%-60%)", A11<=-0.5,"(59.9%-50%)", A11<=-0.4,"(49.9%-40%)", A11<=-0.3,"(39.9%-30%)", A11<=-0.2,"(29.9%-20%)", A11<=-0.1,"(19.9%-10%)", A11<0,"(9.9%-0.01%)", A11<=0.0999,"0%-9.9%", A11<=0.1999,"10%-19.9%", A11<=0.2999,"20%-29.9%", A11<=0.3999,"30%-39.9%", A11<=0.4999,"40%-49.9%", A11<=0.5999,"50%-59.9%", A11<=0.6999,"60%-69.9%", A11<=0.7999,"70%-79.9%", A11<=0.8999,"80%-89.9%", A11<=0.999,"90%-99.9%", A11<=5,">100%", A11>5,">500%" )} -> (79.9%-70%) | H11: =IF(A11<>"",A11,#N/A) -> -0.762194 | I11: =IF(ISNUMBER(H11),H11,"") -> -0.762194 | J11: =IF(ISNUMBER(I11),IF(AND(I11>=($M$14-$M$13),I11<=($M$14+$M$13)),1,0),"") -> 0 | L11: Max | M11: =MAX(I3:I593) -> 9.4786343 | Q11: Count of Chart Data
A12: -0.73807043 | B12: Replace Surge Arrestors - Various Sites | C12: 361.8 | D12: 94.76612 | G12: {=_xlfn.IFS( A12<=-1,"(>=100%)", A12<=-0.9,"(99.9%-90%)", A12<=-0.8,"(89.9%-80%)", A12<=-0.7,"(79.9%-70%)", A12<=-0.6,"(69.9%-60%)", A12<=-0.5,"(59.9%-50%)", A12<=-0.4,"(49.9%-40%)", A12<=-0.3,"(39.9%-30%)", A12<=-0.2,"(29.9%-20%)", A12<=-0.1,"(19.9%-10%)", A12<0,"(9.9%-0.01%)", A12<=0.0999,"0%-9.9%", A12<=0.1999,"10%-19.9%", A12<=0.2999,"20%-29.9%", A12<=0.3999,"30%-39.9%", A12<=0.4999,"40%-49.9%", A12<=0.5999,"50%-59.9%", A12<=0.6999,"60%-69.9%", A12<=0.7999,"70%-79.9%", A12<=0.8999,"80%-89.9%", A12<=0.999,"90%-99.9%", A12<=5,">100%", A12>5,">500%" )} -> (79.9%-70%) | H12: =IF(A12<>"",A12,#N/A) -> -0.73807043 | I12: =IF(ISNUMBER(H12),H12,"") -> -0.73807043 | J12: =IF(ISNUMBER(I12),IF(AND(I12>=($M$14-$M$13),I12<=($M$14+$M$13)),1,0),"") -> 0 | L12: Var | M12: =VAR(I3:I593) -> 0.35872062 | Q12: Category | R12: Total
A13: -0.72685547 | B13: Replace Units 1-6 Generator Bearing Cover Seals - BDE | C13: 656.7 | D13: 179.37401 | G13: {=_xlfn.IFS( A13<=-1,"(>=100%)", A13<=-0.9,"(99.9%-90%)", A13<=-0.8,"(89.9%-80%)", A13<=-0.7,"(79.9%-70%)", A13<=-0.6,"(69.9%-60%)", A13<=-0.5,"(59.9%-50%)", A13<=-0.4,"(49.9%-40%)", A13<=-0.3,"(39.9%-30%)", A13<=-0.2,"(29.9%-20%)", A13<=-0.1,"(19.9%-10%)", A13<0,"(9.9%-0.01%)", A13<=0.0999,"0%-9.9%", A13<=0.1999,"10%-19.9%", A13<=0.2999,"20%-29.9%", A13<=0.3999,"30%-39.9%", A13<=0.4999,"40%-49.9%", A13<=0.5999,"50%-59.9%", A13<=0.6999,"60%-69.9%", A13<=0.7999,"70%-79.9%", A13<=0.8999,"80%-89.9%", A13<=0.999,"90%-99.9%", A13<=5,">100%", A13>5,">500%" )} -> (79.9%-70%) | H13: =IF(A13<>"",A13,#N/A) -> -0.72685547 | I13: =IF(ISNUMBER(H13),H13,"") -> -0.72685547 | J13: =IF(ISNUMBER(I13),IF(AND(I13>=($M$14-$M$13),I13<=($M$14+$M$13)),1,0),"") -> 0 | L13: Std Dev | M13: =_xlfn.STDEV.S(I3:I593) -> 0.5989329 | Q13: (>=100%) | R13: 2
A14: -0.70801867 | B14: Replace Office Desk Chairs - Hydro Place | C14: 90 | D14: 26.27832 | G14: {=_xlfn.IFS( A14<=-1,"(>=100%)", A14<=-0.9,"(99.9%-90%)", A14<=-0.8,"(89.9%-80%)", A14<=-0.7,"(79.9%-70%)", A14<=-0.6,"(69.9%-60%)", A14<=-0.5,"(59.9%-50%)", A14<=-0.4,"(49.9%-40%)", A14<=-0.3,"(39.9%-30%)", A14<=-0.2,"(29.9%-20%)", A14<=-0.1,"(19.9%-10%)", A14<0,"(9.9%-0.01%)", A14<=0.0999,"0%-9.9%", A14<=0.1999,"10%-19.9%", A14<=0.2999,"20%-29.9%", A14<=0.3999,"30%-39.9%", A14<=0.4999,"40%-49.9%", A14<=0.5999,"50%-59.9%", A14<=0.6999,"60%-69.9%", A14<=0.7999,"70%-79.9%", A14<=0.8999,"80%-89.9%", A14<=0.999,"90%-99.9%", A14<=5,">100%", A14>5,">500%" )} -> (79.9%-70%) | H14: =IF(A14<>"",A14,#N/A) -> -0.70801867 | I14: =IF(ISNUMBER(H14),H14,"") -> -0.70801867 | J14: =IF(ISNUMBER(I14),IF(AND(I14>=($M$14-$M$13),I14<=($M$14+$M$13)),1,0),"") -> 0 | L14: Avg | M14: =AVERAGE(I3:I593) -> 0.013596411 | Q14: (19.9%-10%) | R14: 73
A15: -0.68882025 | B15: Replace Light- and Heavy-Duty Vehicles (2021-2022) | C15: 5909.7557 | D15: 1838.9963 | G15: {=_xlfn.IFS( A15<=-1,"(>=100%)", A15<=-0.9,"(99.9%-90%)", A15<=-0.8,"(89.9%-80%)", A15<=-0.7,"(79.9%-70%)", A15<=-0.6,"(69.9%-60%)", A15<=-0.5,"(59.9%-50%)", A15<=-0.4,"(49.9%-40%)", A15<=-0.3,"(39.9%-30%)", A15<=-0.2,"(29.9%-20%)", A15<=-0.1,"(19.9%-10%)", A15<0,"(9.9%-0.01%)", A15<=0.0999,"0%-9.9%", A15<=0.1999,"10%-19.9%", A15<=0.2999,"20%-29.9%", A15<=0.3999,"30%-39.9%", A15<=0.4999,"40%-49.9%", A15<=0.5999,"50%-59.9%", A15<=0.6999,"60%-69.9%", A15<=0.7999,"70%-79.9%", A15<=0.8999,"80%-89.9%", A15<=0.999,"90%-99.9%", A15<=5,">100%", A15>5,">500%" )} -> (69.9%-60%) | H15: =IF(A15<>"",A15,#N/A) -> -0.68882025 | I15: =IF(ISNUMBER(H15),H15,"") -> -0.68882025 | J15: =IF(ISNUMBER(I15),IF(AND(I15>=($M$14-$M$13),I15<=($M$14+$M$13)),1,0),"") -> 0 | L15: Count | M15: =COUNT(I3:I593) -> 591 | Q15: (29.9%-20%) | R15: 55
A16: -0.6719639 | B16: Purchase Office Equipment | C16: 62.264 | D16: 20.42484 | G16: {=_xlfn.IFS( A16<=-1,"(>=100%)", A16<=-0.9,"(99.9%-90%)", A16<=-0.8,"(89.9%-80%)", A16<=-0.7,"(79.9%-70%)", A16<=-0.6,"(69.9%-60%)", A16<=-0.5,"(59.9%-50%)", A16<=-0.4,"(49.9%-40%)", A16<=-0.3,"(39.9%-30%)", A16<=-0.2,"(29.9%-20%)", A16<=-0.1,"(19.9%-10%)", A16<0,"(9.9%-0.01%)", A16<=0.0999,"0%-9.9%", A16<=0.1999,"10%-19.9%", A16<=0.2999,"20%-29.9%", A16<=0.3999,"30%-39.9%", A16<=0.4999,"40%-49.9%", A16<=0.5999,"50%-59.9%", A16<=0.6999,"60%-69.9%", A16<=0.7999,"70%-79.9%", A16<=0.8999,"80%-89.9%", A16<=0.999,"90%-99.9%", A16<=5,">100%", A16>5,">500%" )} -> (69.9%-60%) | H16: =IF(A16<>"",A16,#N/A) -> -0.6719639 | I16: =IF(ISNUMBER(H16),H16,"") -> -0.6719639 | J16: =IF(ISNUMBER(I16),IF(AND(I16>=($M$14-$M$13),I16<=($M$14+$M$13)),1,0),"") -> 0 | L16: Lower SD | M16: =M14-M13 -> -0.58533649 | Q16: (39.9%-30%) | R16: 50
A17: -0.67013531 | B17: Replace 60 kW Diesel Generator - Burnt Dam | C17: 1161.7 | D17: 383.20381 | G17: {=_xlfn.IFS( A17<=-1,"(>=100%)", A17<=-0.9,"(99.9%-90%)", A17<=-0.8,"(89.9%-80%)", A17<=-0.7,"(79.9%-70%)", A17<=-0.6,"(69.9%-60%)", A17<=-0.5,"(59.9%-50%)", A17<=-0.4,"(49.9%-40%)", A17<=-0.3,"(39.9%-30%)", A17<=-0.2,"(29.9%-20%)", A17<=-0.1,"(19.9%-10%)", A17<0,"(9.9%-0.01%)", A17<=0.0999,"0%-9.9%", A17<=0.1999,"10%-19.9%", A17<=0.2999,"20%-29.9%", A17<=0.3999,"30%-39.9%", A17<=0.4999,"40%-49.9%", A17<=0.5999,"50%-59.9%", A17<=0.6999,"60%-69.9%", A17<=0.7999,"70%-79.9%", A17<=0.8999,"80%-89.9%", A17<=0.999,"90%-99.9%", A17<=5,">100%", A17>5,">500%" )} -> (69.9%-60%) | H17: =IF(A17<>"",A17,#N/A) -> -0.67013531 | I17: =IF(ISNUMBER(H17),H17,"") -> -0.67013531 | J17: =IF(ISNUMBER(I17),IF(AND(I17>=($M$14-$M$13),I17<=($M$14+$M$13)),1,0),"") -> 0 | L17: Upper SD | M17: =M14+M13 -> 0.61252931 | Q17: (49.9%-40%) | R17: 32
A18: -0.66078151 | B18: Refurbish Superstructure (2023-2024) - Salmon River Spillway | C18: 2828.3 | D18: 959.41165 | G18: {=_xlfn.IFS( A18<=-1,"(>=100%)", A18<=-0.9,"(99.9%-90%)", A18<=-0.8,"(89.9%-80%)", A18<=-0.7,"(79.9%-70%)", A18<=-0.6,"(69.9%-60%)", A18<=-0.5,"(59.9%-50%)", A18<=-0.4,"(49.9%-40%)", A18<=-0.3,"(39.9%-30%)", A18<=-0.2,"(29.9%-20%)", A18<=-0.1,"(19.9%-10%)", A18<0,"(9.9%-0.01%)", A18<=0.0999,"0%-9.9%", A18<=0.1999,"10%-19.9%", A18<=0.2999,"20%-29.9%", A18<=0.3999,"30%-39.9%", A18<=0.4999,"40%-49.9%", A18<=0.5999,"50%-59.9%", A18<=0.6999,"60%-69.9%", A18<=0.7999,"70%-79.9%", A18<=0.8999,"80%-89.9%", A18<=0.999,"90%-99.9%", A18<=5,">100%", A18>5,">500%" )} -> (69.9%-60%) | H18: =IF(A18<>"",A18,#N/A) -> -0.66078151 | I18: =IF(ISNUMBER(H18),H18,"") -> -0.66078151 | J18: =IF(ISNUMBER(I18),IF(AND(I18>=($M$14-$M$13),I18<=($M$14+$M$13)),1,0),"") -> 0 | Q18: (59.9%-50%) | R18: 23
A19: -0.66026545 | B19: Upgrade Cables - Various (2020) | C19: 473.611 | D19: 160.90202 | G19: {=_xlfn.IFS( A19<=-1,"(>=100%)", A19<=-0.9,"(99.9%-90%)", A19<=-0.8,"(89.9%-80%)", A19<=-0.7,"(79.9%-70%)", A19<=-0.6,"(69.9%-60%)", A19<=-0.5,"(59.9%-50%)", A19<=-0.4,"(49.9%-40%)", A19<=-0.3,"(39.9%-30%)", A19<=-0.2,"(29.9%-20%)", A19<=-0.1,"(19.9%-10%)", A19<0,"(9.9%-0.01%)", A19<=0.0999,"0%-9.9%", A19<=0.1999,"10%-19.9%", A19<=0.2999,"20%-29.9%", A19<=0.3999,"30%-39.9%", A19<=0.4999,"40%-49.9%", A19<=0.5999,"50%-59.9%", A19<=0.6999,"60%-69.9%", A19<=0.7999,"70%-79.9%", A19<=0.8999,"80%-89.9%", A19<=0.999,"90%-99.9%", A19<=5,">100%", A19>5,">500%" )} -> (69.9%-60%) | H19: =IF(A19<>"",A19,#N/A) -> -0.66026545 | I19: =IF(ISNUMBER(H19),H19,"") -> -0.66026545 | J19: =IF(ISNUMBER(I19),IF(AND(I19>=($M$14-$M$13),I19<=($M$14+$M$13)),1,0),"") -> 0 | Q19: (69.9%-60%) | R19: 12
A20: -0.65946073 | B20: Install Recloser Remote Control (2019-2020) - Rocky Harbour | C20: 386 | D20: 131.44816 | G20: {=_xlfn.IFS( A20<=-1,"(>=100%)", A20<=-0.9,"(99.9%-90%)", A20<=-0.8,"(89.9%-80%)", A20<=-0.7,"(79.9%-70%)", A20<=-0.6,"(69.9%-60%)", A20<=-0.5,"(59.9%-50%)", A20<=-0.4,"(49.9%-40%)", A20<=-0.3,"(39.9%-30%)", A20<=-0.2,"(29.9%-20%)", A20<=-0.1,"(19.9%-10%)", A20<0,"(9.9%-0.01%)", A20<=0.0999,"0%-9.9%", A20<=0.1999,"10%-19.9%", A20<=0.2999,"20%-29.9%", A20<=0.3999,"30%-39.9%", A20<=0.4999,"40%-49.9%", A20<=0.5999,"50%-59.9%", A20<=0.6999,"60%-69.9%", A20<=0.7999,"70%-79.9%", A20<=0.8999,"80%-89.9%", A20<=0.999,"90%-99.9%", A20<=5,">100%", A20>5,">500%" )} -> (69.9%-60%) | H20: =IF(A20<>"",A20,#N/A) -> -0.65946073 | I20: =IF(ISNUMBER(H20),H20,"") -> -0.65946073 | J20: =IF(ISNUMBER(I20),IF(AND(I20>=($M$14-$M$13),I20<=($M$14+$M$13)),1,0),"") -> 0 | Q20: (79.9%-70%) | R20: 5
A21: -0.65184048 | B21: Install Breaker Failure Protection - DLK (2022-23) | C21: 171.216 | D21: 59.61048 | G21: {=_xlfn.IFS( A21<=-1,"(>=100%)", A21<=-0.9,"(99.9%-90%)", A21<=-0.8,"(89.9%-80%)", A21<=-0.7,"(79.9%-70%)", A21<=-0.6,"(69.9%-60%)", A21<=-0.5,"(59.9%-50%)", A21<=-0.4,"(49.9%-40%)", A21<=-0.3,"(39.9%-30%)", A21<=-0.2,"(29.9%-20%)", A21<=-0.1,"(19.9%-10%)", A21<0,"(9.9%-0.01%)", A21<=0.0999,"0%-9.9%", A21<=0.1999,"10%-19.9%", A21<=0.2999,"20%-29.9%", A21<=0.3999,"30%-39.9%", A21<=0.4999,"40%-49.9%", A21<=0.5999,"50%-59.9%", A21<=0.6999,"60%-69.9%", A21<=0.7999,"70%-79.9%", A21<=0.8999,"80%-89.9%", A21<=0.999,"90%-99.9%", A21<=5,">100%", A21>5,">500%" )} -> (69.9%-60%) | H21: =IF(A21<>"",A21,#N/A) -> -0.65184048 | I21: =IF(ISNUMBER(H21),H21,"") -> -0.65184048 | J21: =IF(ISNUMBER(I21),IF(AND(I21>=($M$14-$M$13),I21<=($M$14+$M$13)),1,0),"") -> 0 | Q21: (89.9%-80%) | R21: 4
A22: -0.65180794 | B22: Install Breaker Failure Protection - DLK (2022-23) | C22: 171.2 | D22: 59.61048 | G22: {=_xlfn.IFS( A22<=-1,"(>=100%)", A22<=-0.9,"(99.9%-90%)", A22<=-0.8,"(89.9%-80%)", A22<=-0.7,"(79.9%-70%)", A22<=-0.6,"(69.9%-60%)", A22<=-0.5,"(59.9%-50%)", A22<=-0.4,"(49.9%-40%)", A22<=-0.3,"(39.9%-30%)", A22<=-0.2,"(29.9%-20%)", A22<=-0.1,"(19.9%-10%)", A22<0,"(9.9%-0.01%)", A22<=0.0999,"0%-9.9%", A22<=0.1999,"10%-19.9%", A22<=0.2999,"20%-29.9%", A22<=0.3999,"30%-39.9%", A22<=0.4999,"40%-49.9%", A22<=0.5999,"50%-59.9%", A22<=0.6999,"60%-69.9%", A22<=0.7999,"70%-79.9%", A22<=0.8999,"80%-89.9%", A22<=0.999,"90%-99.9%", A22<=5,">100%", A22>5,">500%" )} -> (69.9%-60%) | H22: =IF(A22<>"",A22,#N/A) -> -0.65180794 | I22: =IF(ISNUMBER(H22),H22,"") -> -0.65180794 | J22: =IF(ISNUMBER(I22),IF(AND(I22>=($M$14-$M$13),I22<=($M$14+$M$13)),1,0),"") -> 0 | Q22: (9.9%-0.01%) | R22: 89
A23: -0.64733965 | B23: Replace Disconnects - Various Sites | C23: 3369.9 | D23: 1188.4301 | G23: {=_xlfn.IFS( A23<=-1,"(>=100%)", A23<=-0.9,"(99.9%-90%)", A23<=-0.8,"(89.9%-80%)", A23<=-0.7,"(79.9%-70%)", A23<=-0.6,"(69.9%-60%)", A23<=-0.5,"(59.9%-50%)", A23<=-0.4,"(49.9%-40%)", A23<=-0.3,"(39.9%-30%)", A23<=-0.2,"(29.9%-20%)", A23<=-0.1,"(19.9%-10%)", A23<0,"(9.9%-0.01%)", A23<=0.0999,"0%-9.9%", A23<=0.1999,"10%-19.9%", A23<=0.2999,"20%-29.9%", A23<=0.3999,"30%-39.9%", A23<=0.4999,"40%-49.9%", A23<=0.5999,"50%-59.9%", A23<=0.6999,"60%-69.9%", A23<=0.7999,"70%-79.9%", A23<=0.8999,"80%-89.9%", A23<=0.999,"90%-99.9%", A23<=5,">100%", A23>5,">500%" )} -> (69.9%-60%) | H23: =IF(A23<>"",A23,#N/A) -> -0.64733965 | I23: =IF(ISNUMBER(H23),H23,"") -> -0.64733965 | J23: =IF(ISNUMBER(I23),IF(AND(I23>=($M$14-$M$13),I23<=($M$14+$M$13)),1,0),"") -> 0 | Q23: (99.9%-90%) | R23: 1
A24: -0.63837971 | B24: Hydraulic In-Service Failures | C24: 1251.1 | D24: 452.42314 | G24: {=_xlfn.IFS( A24<=-1,"(>=100%)", A24<=-0.9,"(99.9%-90%)", A24<=-0.8,"(89.9%-80%)", A24<=-0.7,"(79.9%-70%)", A24<=-0.6,"(69.9%-60%)", A24<=-0.5,"(59.9%-50%)", A24<=-0.4,"(49.9%-40%)", A24<=-0.3,"(39.9%-30%)", A24<=-0.2,"(29.9%-20%)", A24<=-0.1,"(19.9%-10%)", A24<0,"(9.9%-0.01%)", A24<=0.0999,"0%-9.9%", A24<=0.1999,"10%-19.9%", A24<=0.2999,"20%-29.9%", A24<=0.3999,"30%-39.9%", A24<=0.4999,"40%-49.9%", A24<=0.5999,"50%-59.9%", A24<=0.6999,"60%-69.9%", A24<=0.7999,"70%-79.9%", A24<=0.8999,"80%-89.9%", A24<=0.999,"90%-99.9%", A24<=5,">100%", A24>5,">500%" )} -> (69.9%-60%) | H24: =IF(A24<>"",A24,#N/A) -> -0.63837971 | I24: =IF(ISNUMBER(H24),H24,"") -> -0.63837971 | J24: =IF(ISNUMBER(I24),IF(AND(I24>=($M$14-$M$13),I24<=($M$14+$M$13)),1,0),"") -> 0 | Q24: >100% | R24: 19
A25: -0.61018456 | B25: Penstock Level II Condition Assessment (2024) - Upper Salmon | C25: 382.8 | D25: 149.22135 | G25: {=_xlfn.IFS( A25<=-1,"(>=100%)", A25<=-0.9,"(99.9%-90%)", A25<=-0.8,"(89.9%-80%)", A25<=-0.7,"(79.9%-70%)", A25<=-0.6,"(69.9%-60%)", A25<=-0.5,"(59.9%-50%)", A25<=-0.4,"(49.9%-40%)", A25<=-0.3,"(39.9%-30%)", A25<=-0.2,"(29.9%-20%)", A25<=-0.1,"(19.9%-10%)", A25<0,"(9.9%-0.01%)", A25<=0.0999,"0%-9.9%", A25<=0.1999,"10%-19.9%", A25<=0.2999,"20%-29.9%", A25<=0.3999,"30%-39.9%", A25<=0.4999,"40%-49.9%", A25<=0.5999,"50%-59.9%", A25<=0.6999,"60%-69.9%", A25<=0.7999,"70%-79.9%", A25<=0.8999,"80%-89.9%", A25<=0.999,"90%-99.9%", A25<=5,">100%", A25>5,">500%" )} -> (69.9%-60%) | H25: =IF(A25<>"",A25,#N/A) -> -0.61018456 | I25: =IF(ISNUMBER(H25),H25,"") -> -0.61018456 | J25: =IF(ISNUMBER(I25),IF(AND(I25>=($M$14-$M$13),I25<=($M$14+$M$13)),1,0),"") -> 0 | Q25: >500% | R25: 1
A26: -0.60982598 | B26: Install Infrared Viewports - VAR | C26: 257.5 | D26: 100.46981 | G26: {=_xlfn.IFS( A26<=-1,"(>=100%)", A26<=-0.9,"(99.9%-90%)", A26<=-0.8,"(89.9%-80%)", A26<=-0.7,"(79.9%-70%)", A26<=-0.6,"(69.9%-60%)", A26<=-0.5,"(59.9%-50%)", A26<=-0.4,"(49.9%-40%)", A26<=-0.3,"(39.9%-30%)", A26<=-0.2,"(29.9%-20%)", A26<=-0.1,"(19.9%-10%)", A26<0,"(9.9%-0.01%)", A26<=0.0999,"0%-9.9%", A26<=0.1999,"10%-19.9%", A26<=0.2999,"20%-29.9%", A26<=0.3999,"30%-39.9%", A26<=0.4999,"40%-49.9%", A26<=0.5999,"50%-59.9%", A26<=0.6999,"60%-69.9%", A26<=0.7999,"70%-79.9%", A26<=0.8999,"80%-89.9%", A26<=0.999,"90%-99.9%", A26<=5,">100%", A26>5,">500%" )} -> (69.9%-60%) | H26: =IF(A26<>"",A26,#N/A) -> -0.60982598 | I26: =IF(ISNUMBER(H26),H26,"") -> -0.60982598 | J26: =IF(ISNUMBER(I26),IF(AND(I26>=($M$14-$M$13),I26<=($M$14+$M$13)),1,0),"") -> 0 | Q26: 0%-9.9% | R26: 78
A27: -0.59974645 | B27: Refurbish 230kV TS - WAB | C27: 4969.8 | D27: 1989.1801 | G27: {=_xlfn.IFS( A27<=-1,"(>=100%)", A27<=-0.9,"(99.9%-90%)", A27<=-0.8,"(89.9%-80%)", A27<=-0.7,"(79.9%-70%)", A27<=-0.6,"(69.9%-60%)", A27<=-0.5,"(59.9%-50%)", A27<=-0.4,"(49.9%-40%)", A27<=-0.3,"(39.9%-30%)", A27<=-0.2,"(29.9%-20%)", A27<=-0.1,"(19.9%-10%)", A27<0,"(9.9%-0.01%)", A27<=0.0999,"0%-9.9%", A27<=0.1999,"10%-19.9%", A27<=0.2999,"20%-29.9%", A27<=0.3999,"30%-39.9%", A27<=0.4999,"40%-49.9%", A27<=0.5999,"50%-59.9%", A27<=0.6999,"60%-69.9%", A27<=0.7999,"70%-79.9%", A27<=0.8999,"80%-89.9%", A27<=0.999,"90%-99.9%", A27<=5,">100%", A27>5,">500%" )} -> (59.9%-50%) | H27: =IF(A27<>"",A27,#N/A) -> -0.59974645 | I27: =IF(ISNUMBER(H27),H27,"") -> -0.59974645 | J27: =IF(ISNUMBER(I27),IF(AND(I27>=($M$14-$M$13),I27<=($M$14+$M$13)),1,0),"") -> 0 | Q27: 10%-19.9% | R27: 43
A28: -0.58638874 | B28: Additions for Load Growth - Makkovik and Rigolet | C28: 730.1 | D28: 301.97758 | G28: {=_xlfn.IFS( A28<=-1,"(>=100%)", A28<=-0.9,"(99.9%-90%)", A28<=-0.8,"(89.9%-80%)", A28<=-0.7,"(79.9%-70%)", A28<=-0.6,"(69.9%-60%)", A28<=-0.5,"(59.9%-50%)", A28<=-0.4,"(49.9%-40%)", A28<=-0.3,"(39.9%-30%)", A28<=-0.2,"(29.9%-20%)", A28<=-0.1,"(19.9%-10%)", A28<0,"(9.9%-0.01%)", A28<=0.0999,"0%-9.9%", A28<=0.1999,"10%-19.9%", A28<=0.2999,"20%-29.9%", A28<=0.3999,"30%-39.9%", A28<=0.4999,"40%-49.9%", A28<=0.5999,"50%-59.9%", A28<=0.6999,"60%-69.9%", A28<=0.7999,"70%-79.9%", A28<=0.8999,"80%-89.9%", A28<=0.999,"90%-99.9%", A28<=5,">100%", A28>5,">500%" )} -> (59.9%-50%) | H28: =IF(A28<>"",A28,#N/A) -> -0.58638874 | I28: =IF(ISNUMBER(H28),H28,"") -> -0.58638874 | J28: =IF(ISNUMBER(I28),IF(AND(I28>=($M$14-$M$13),I28<=($M$14+$M$13)),1,0),"") -> 0 | Q28: 20%-29.9% | R28: 24
A29: -0.57964202 | B29: Purchase Tools and Equipment less than $50,000 | C29: 18.8 | D29: 7.90273 | G29: {=_xlfn.IFS( A29<=-1,"(>=100%)", A29<=-0.9,"(99.9%-90%)", A29<=-0.8,"(89.9%-80%)", A29<=-0.7,"(79.9%-70%)", A29<=-0.6,"(69.9%-60%)", A29<=-0.5,"(59.9%-50%)", A29<=-0.4,"(49.9%-40%)", A29<=-0.3,"(39.9%-30%)", A29<=-0.2,"(29.9%-20%)", A29<=-0.1,"(19.9%-10%)", A29<0,"(9.9%-0.01%)", A29<=0.0999,"0%-9.9%", A29<=0.1999,"10%-19.9%", A29<=0.2999,"20%-29.9%", A29<=0.3999,"30%-39.9%", A29<=0.4999,"40%-49.9%", A29<=0.5999,"50%-59.9%", A29<=0.6999,"60%-69.9%", A29<=0.7999,"70%-79.9%", A29<=0.8999,"80%-89.9%", A29<=0.999,"90%-99.9%", A29<=5,">100%", A29>5,">500%" )} -> (59.9%-50%) | H29: =IF(A29<>"",A29,#N/A) -> -0.57964202 | I29: =IF(ISNUMBER(H29),H29,"") -> -0.57964202 | J29: =IF(ISNUMBER(I29),IF(AND(I29>=($M$14-$M$13),I29<=($M$14+$M$13)),1,0),"") -> 1 | Q29: 30%-39.9% | R29: 24
... A36: -0.55312803 | B36: Replace Oil Mist Separator (2023-2024) - Happy Valley Gas Turbine | C36: 400.6 | D36: 179.01691 | G36: {=_xlfn.IFS( A36<=-1,"(>=100%)", A36<=-0.9,"(99.9%-90%)", A36<=-0.8,"(89.9%-80%)", A36<=-0.7,"(79.9%-70%)", A36<=-0.6,"(69.9%-60%)", A36<=-0.5,"(59.9%-50%)", A36<=-0.4,"(49.9%-40%)", A36<=-0.3,"(39.9%-30%)", A36<=-0.2,"(29.9%-20%)", A36<=-0.1,"(19.9%-10%)", A36<0,"(9.9%-0.01%)", A36<=0.0999,"0%-9.9%", A36<=0.1999,"10%-19.9%", A36<=0.2999,"20%-29.9%", A36<=0.3999,"30%-39.9%", A36<=0.4999,"40%-49.9%", A36<=0.5999,"50%-59.9%", A36<=0.6999,"60%-69.9%", A36<=0.7999,"70%-79.9%", A36<=0.8999,"80%-89.9%", A36<=0.999,"90%-99.9%", A36<=5,">100%", A36>5,">500%" )} -> (59.9%-50%) | H36: =IF(A36<>"",A36,#N/A) -> -0.55312803 | I36: =IF(ISNUMBER(H36),H36,"") -> -0.55312803 | J36: =IF(ISNUMBER(I36),IF(AND(I36>=($M$14-$M$13),I36<=($M$14+$M$13)),1,0),"") -> 1 | Q36: Grand Total | R36: 591
A37: -0.54749287 | B37: Install Fire Protection in 230 kV Stations - OPD (2019-20) | C37: 883.3 | D37: 399.69955 | G37: {=_xlfn.IFS( A37<=-1,"(>=100%)", A37<=-0.9,"(99.9%-90%)", A37<=-0.8,"(89.9%-80%)", A37<=-0.7,"(79.9%-70%)", A37<=-0.6,"(69.9%-60%)", A37<=-0.5,"(59.9%-50%)", A37<=-0.4,"(49.9%-40%)", A37<=-0.3,"(39.9%-30%)", A37<=-0.2,"(29.9%-20%)", A37<=-0.1,"(19.9%-10%)", A37<0,"(9.9%-0.01%)", A37<=0.0999,"0%-9.9%", A37<=0.1999,"10%-19.9%", A37<=0.2999,"20%-29.9%", A37<=0.3999,"30%-39.9%", A37<=0.4999,"40%-49.9%", A37<=0.5999,"50%-59.9%", A37<=0.6999,"60%-69.9%", A37<=0.7999,"70%-79.9%", A37<=0.8999,"80%-89.9%", A37<=0.999,"90%-99.9%", A37<=5,">100%", A37>5,">500%" )} -> (59.9%-50%) | H37: =IF(A37<>"",A37,#N/A) -> -0.54749287 | I37: =IF(ISNUMBER(H37),H37,"") -> -0.54749287 | J37: =IF(ISNUMBER(I37),IF(AND(I37>=($M$14-$M$13),I37<=($M$14+$M$13)),1,0),"") -> 1
A38: -0.54557885 | B38: Install Protective Guards in Turbine Pits - BDE, USL | C38: 541 | D38: 245.84184 | G38: {=_xlfn.IFS( A38<=-1,"(>=100%)", A38<=-0.9,"(99.9%-90%)", A38<=-0.8,"(89.9%-80%)", A38<=-0.7,"(79.9%-70%)", A38<=-0.6,"(69.9%-60%)", A38<=-0.5,"(59.9%-50%)", A38<=-0.4,"(49.9%-40%)", A38<=-0.3,"(39.9%-30%)", A38<=-0.2,"(29.9%-20%)", A38<=-0.1,"(19.9%-10%)", A38<0,"(9.9%-0.01%)", A38<=0.0999,"0%-9.9%", A38<=0.1999,"10%-19.9%", A38<=0.2999,"20%-29.9%", A38<=0.3999,"30%-39.9%", A38<=0.4999,"40%-49.9%", A38<=0.5999,"50%-59.9%", A38<=0.6999,"60%-69.9%", A38<=0.7999,"70%-79.9%", A38<=0.8999,"80%-89.9%", A38<=0.999,"90%-99.9%", A38<=5,">100%", A38>5,">500%" )} -> (59.9%-50%) | H38: =IF(A38<>"",A38,#N/A) -> -0.54557885 | I38: =IF(ISNUMBER(H38),H38,"") -> -0.54557885 | J38: =IF(ISNUMBER(I38),IF(AND(I38>=($M$14-$M$13),I38<=($M$14+$M$13)),1,0),"") -> 1
A39: -0.54172716 | B39: Replace Lignt and Heavy Duty Vehicles - Various (2020) | C39: 8848.5694 | D39: 4055.059 | G39: {=_xlfn.IFS( A39<=-1,"(>=100%)", A39<=-0.9,"(99.9%-90%)", A39<=-0.8,"(89.9%-80%)", A39<=-0.7,"(79.9%-70%)", A39<=-0.6,"(69.9%-60%)", A39<=-0.5,"(59.9%-50%)", A39<=-0.4,"(49.9%-40%)", A39<=-0.3,"(39.9%-30%)", A39<=-0.2,"(29.9%-20%)", A39<=-0.1,"(19.9%-10%)", A39<0,"(9.9%-0.01%)", A39<=0.0999,"0%-9.9%", A39<=0.1999,"10%-19.9%", A39<=0.2999,"20%-29.9%", A39<=0.3999,"30%-39.9%", A39<=0.4999,"40%-49.9%", A39<=0.5999,"50%-59.9%", A39<=0.6999,"60%-69.9%", A39<=0.7999,"70%-79.9%", A39<=0.8999,"80%-89.9%", A39<=0.999,"90%-99.9%", A39<=5,">100%", A39>5,">500%" )} -> (59.9%-50%) | H39: =IF(A39<>"",A39,#N/A) -> -0.54172716 | I39: =IF(ISNUMBER(H39),H39,"") -> -0.54172716 | J39: =IF(ISNUMBER(I39),IF(AND(I39>=($M$14-$M$13),I39<=($M$14+$M$13)),1,0),"") -> 1
A40: -0.53598885 | B40: Upgrade Power Transformers - Various Sites | C40: 4829 | D40: 2240.7098 | G40: {=_xlfn.IFS( A40<=-1,"(>=100%)", A40<=-0.9,"(99.9%-90%)", A40<=-0.8,"(89.9%-80%)", A40<=-0.7,"(79.9%-70%)", A40<=-0.6,"(69.9%-60%)", A40<=-0.5,"(59.9%-50%)", A40<=-0.4,"(49.9%-40%)", A40<=-0.3,"(39.9%-30%)", A40<=-0.2,"(29.9%-20%)", A40<=-0.1,"(19.9%-10%)", A40<0,"(9.9%-0.01%)", A40<=0.0999,"0%-9.9%", A40<=0.1999,"10%-19.9%", A40<=0.2999,"20%-29.9%", A40<=0.3999,"30%-39.9%", A40<=0.4999,"40%-49.9%", A40<=0.5999,"50%-59.9%", A40<=0.6999,"60%-69.9%", A40<=0.7999,"70%-79.9%", A40<=0.8999,"80%-89.9%", A40<=0.999,"90%-99.9%", A40<=5,">100%", A40>5,">500%" )} -> (59.9%-50%) | H40: =IF(A40<>"",A40,#N/A) -> -0.53598885 | I40: =IF(ISNUMBER(H40),H40,"") -> -0.53598885 | J40: =IF(ISNUMBER(I40),IF(AND(I40>=($M$14-$M$13),I40<=($M$14+$M$13)),1,0),"") -> 1
A41: -0.53425792 | B41: Replace Tracks - V7271 - Supplemental | C41: 96.62 | D41: 45 | G41: {=_xlfn.IFS( A41<=-1,"(>=100%)", A41<=-0.9,"(99.9%-90%)", A41<=-0.8,"(89.9%-80%)", A41<=-0.7,"(79.9%-70%)", A41<=-0.6,"(69.9%-60%)", A41<=-0.5,"(59.9%-50%)", A41<=-0.4,"(49.9%-40%)", A41<=-0.3,"(39.9%-30%)", A41<=-0.2,"(29.9%-20%)", A41<=-0.1,"(19.9%-10%)", A41<0,"(9.9%-0.01%)", A41<=0.0999,"0%-9.9%", A41<=0.1999,"10%-19.9%", A41<=0.2999,"20%-29.9%", A41<=0.3999,"30%-39.9%", A41<=0.4999,"40%-49.9%", A41<=0.5999,"50%-59.9%", A41<=0.6999,"60%-69.9%", A41<=0.7999,"70%-79.9%", A41<=0.8999,"80%-89.9%", A41<=0.999,"90%-99.9%", A41<=5,">100%", A41>5,">500%" )} -> (59.9%-50%) | H41: =IF(A41<>"",A41,#N/A) -> -0.53425792 | I41: =IF(ISNUMBER(H41),H41,"") -> -0.53425792 | J41: =IF(ISNUMBER(I41),IF(AND(I41>=($M$14-$M$13),I41<=($M$14+$M$13)),1,0),"") -> 1
A42: -0.53352078 | B42: Upgrade Reclosing Circuit Breakers B12L65 & B2L68 - HRD | C42: 367.6 | D42: 171.47776 | G42: {=_xlfn.IFS( A42<=-1,"(>=100%)", A42<=-0.9,"(99.9%-90%)", A42<=-0.8,"(89.9%-80%)", A42<=-0.7,"(79.9%-70%)", A42<=-0.6,"(69.9%-60%)", A42<=-0.5,"(59.9%-50%)", A42<=-0.4,"(49.9%-40%)", A42<=-0.3,"(39.9%-30%)", A42<=-0.2,"(29.9%-20%)", A42<=-0.1,"(19.9%-10%)", A42<0,"(9.9%-0.01%)", A42<=0.0999,"0%-9.9%", A42<=0.1999,"10%-19.9%", A42<=0.2999,"20%-29.9%", A42<=0.3999,"30%-39.9%", A42<=0.4999,"40%-49.9%", A42<=0.5999,"50%-59.9%", A42<=0.6999,"60%-69.9%", A42<=0.7999,"70%-79.9%", A42<=0.8999,"80%-89.9%", A42<=0.999,"90%-99.9%", A42<=5,">100%", A42>5,">500%" )} -> (59.9%-50%) | H42: =IF(A42<>"",A42,#N/A) -> -0.53352078 | I42: =IF(ISNUMBER(H42),H42,"") -> -0.53352078 | J42: =IF(ISNUMBER(I42),IF(AND(I42>=($M$14-$M$13),I42<=($M$14+$M$13)),1,0),"") -> 1
A43: -0.52805016 | B43: Replace Disconnect Switches - Various Sites | C43: 2458.5 | D43: 1160.2887 | G43: {=_xlfn.IFS( A43<=-1,"(>=100%)", A43<=-0.9,"(99.9%-90%)", A43<=-0.8,"(89.9%-80%)", A43<=-0.7,"(79.9%-70%)", A43<=-0.6,"(69.9%-60%)", A43<=-0.5,"(59.9%-50%)", A43<=-0.4,"(49.9%-40%)", A43<=-0.3,"(39.9%-30%)", A43<=-0.2,"(29.9%-20%)", A43<=-0.1,"(19.9%-10%)", A43<0,"(9.9%-0.01%)", A43<=0.0999,"0%-9.9%", A43<=0.1999,"10%-19.9%", A43<=0.2999,"20%-29.9%", A43<=0.3999,"30%-39.9%", A43<=0.4999,"40%-49.9%", A43<=0.5999,"50%-59.9%", A43<=0.6999,"60%-69.9%", A43<=0.7999,"70%-79.9%", A43<=0.8999,"80%-89.9%", A43<=0.999,"90%-99.9%", A43<=5,">100%", A43>5,">500%" )} -> (59.9%-50%) | H43: =IF(A43<>"",A43,#N/A) -> -0.52805016 | I43: =IF(ISNUMBER(H43),H43,"") -> -0.52805016 | J43: =IF(ISNUMBER(I43),IF(AND(I43>=($M$14-$M$13),I43<=($M$14+$M$13)),1,0),"") -> 1
A44: -0.52742839 | B44: Line Depot Condition Assessment and Refurbishment Program - Various Sites | C44: 1458.8 | D44: 689.38747 | G44: {=_xlfn.IFS( A44<=-1,"(>=100%)", A44<=-0.9,"(99.9%-90%)", A44<=-0.8,"(89.9%-80%)", A44<=-0.7,"(79.9%-70%)", A44<=-0.6,"(69.9%-60%)", A44<=-0.5,"(59.9%-50%)", A44<=-0.4,"(49.9%-40%)", A44<=-0.3,"(39.9%-30%)", A44<=-0.2,"(29.9%-20%)", A44<=-0.1,"(19.9%-10%)", A44<0,"(9.9%-0.01%)", A44<=0.0999,"0%-9.9%", A44<=0.1999,"10%-19.9%", A44<=0.2999,"20%-29.9%", A44<=0.3999,"30%-39.9%", A44<=0.4999,"40%-49.9%", A44<=0.5999,"50%-59.9%", A44<=0.6999,"60%-69.9%", A44<=0.7999,"70%-79.9%", A44<=0.8999,"80%-89.9%", A44<=0.999,"90%-99.9%", A44<=5,">100%", A44>5,">500%" )} -> (59.9%-50%) | H44: =IF(A44<>"",A44,#N/A) -> -0.52742839 | I44: =IF(ISNUMBER(H44),H44,"") -> -0.52742839 | J44: =IF(ISNUMBER(I44),IF(AND(I44>=($M$14-$M$13),I44<=($M$14+$M$13)),1,0),"") -> 1
A45: -0.51931689 | B45: Replace 66 kV Station Service Feed - Holyrood | C45: 1261.4 | D45: 606.33368 | G45: {=_xlfn.IFS( A45<=-1,"(>=100%)", A45<=-0.9,"(99.9%-90%)", A45<=-0.8,"(89.9%-80%)", A45<=-0.7,"(79.9%-70%)", A45<=-0.6,"(69.9%-60%)", A45<=-0.5,"(59.9%-50%)", A45<=-0.4,"(49.9%-40%)", A45<=-0.3,"(39.9%-30%)", A45<=-0.2,"(29.9%-20%)", A45<=-0.1,"(19.9%-10%)", A45<0,"(9.9%-0.01%)", A45<=0.0999,"0%-9.9%", A45<=0.1999,"10%-19.9%", A45<=0.2999,"20%-29.9%", A45<=0.3999,"30%-39.9%", A45<=0.4999,"40%-49.9%", A45<=0.5999,"50%-59.9%", A45<=0.6999,"60%-69.9%", A45<=0.7999,"70%-79.9%", A45<=0.8999,"80%-89.9%", A45<=0.999,"90%-99.9%", A45<=5,">100%", A45>5,">500%" )} -> (59.9%-50%) | H45: =IF(A45<>"",A45,#N/A) -> -0.51931689 | I45: =IF(ISNUMBER(H45),H45,"") -> -0.51931689 | J45: =IF(ISNUMBER(I45),IF(AND(I45>=($M$14-$M$13),I45<=($M$14+$M$13)),1,0),"") -> 1
A46: -0.50950503 | B46: Gas Turbine Life Extension - Hardwoods | C46: 956.7 | D46: 469.25654 | G46: {=_xlfn.IFS( A46<=-1,"(>=100%)", A46<=-0.9,"(99.9%-90%)", A46<=-0.8,"(89.9%-80%)", A46<=-0.7,"(79.9%-70%)", A46<=-0.6,"(69.9%-60%)", A46<=-0.5,"(59.9%-50%)", A46<=-0.4,"(49.9%-40%)", A46<=-0.3,"(39.9%-30%)", A46<=-0.2,"(29.9%-20%)", A46<=-0.1,"(19.9%-10%)", A46<0,"(9.9%-0.01%)", A46<=0.0999,"0%-9.9%", A46<=0.1999,"10%-19.9%", A46<=0.2999,"20%-29.9%", A46<=0.3999,"30%-39.9%", A46<=0.4999,"40%-49.9%", A46<=0.5999,"50%-59.9%", A46<=0.6999,"60%-69.9%", A46<=0.7999,"70%-79.9%", A46<=0.8999,"80%-89.9%", A46<=0.999,"90%-99.9%", A46<=5,">100%", A46>5,">500%" )} -> (59.9%-50%) | H46: =IF(A46<>"",A46,#N/A) -> -0.50950503 | I46: =IF(ISNUMBER(H46),H46,"") -> -0.50950503 | J46: =IF(ISNUMBER(I46),IF(AND(I46>=($M$14-$M$13),I46<=($M$14+$M$13)),1,0),"") -> 1
...

Sheet Exclusions
A4: Project # | B4: Year Started | C4: Year Closed | D4: Project Description | E4: CBA / CAPEX Title | F4: Budget | G4: Actual Cost | I4: Var $ | J4: Var %
A5: 13501791 | B5: 2017 | C5: 2017 | D5: BWT-Additions for Load Growth | E5: Additions for Load Growth - Bottom Waters | F5: 3045 | G5: 3024.8317 | I5: =G5-F5 -> -20.16835 | J5: =I5/F5 -> -0.0066234319
A6: 12961791 | B6: 2017 | C6: 2017 | D6: HRD-Exciter Controls Replcmnt | E6: Exciter Controls Replacement - Holyrood | F6: 1349.2 | G6: 1339.8812 | I6: =G6-F6 -> -9.31883 | J6: =I6/F6 -> -0.00690693
A7: 12931791 | B7: 2017 | C7: 2017 | D7: BDE Unit 3 Turb Rehabilitation | E7: Unit 3 Turbine Rehabilitation - Bay d'Espoir | F7: 2361.5 | G7: 1905.3701 | I7: =G7-F7 -> -456.12986 | J7: =I7/F7 -> -0.1931526
A8: 12931792 | B8: 2017 | C8: 2017 | D8: BDE Penstock #2 Refurbishment | E8: Penstock #2 Refurbishment - Bay d'Espoir | F8: 9063.7 | G8: 3586.3227 | I8: =G8-F8 -> -5477.3773 | J8: =I8/F8 -> -0.60432024
A9: 21841791 | B9: 2017 | C9: 2017 | D9: HVY GT Engine Refurbishments | E9: Repair and Advanced Overhaul of the Happy Valley Gas Turbine | F9: 3714.8 | G9: 2049.2883 | I9: =G9-F9 -> -1665.5117 | J9: =I9/F9 -> -0.44834491
A10: 12961792 | B10: 2017 | C10: 2018 | D10: HRD-Reliability & Perform Upgr | E10: Reliability Improvements - Holyrood | F10: 2610 | G10: 3883.9136 | I10: =G10-F10 -> 1273.9136 | J10: =I10/F10 -> 0.48808951
A11: 12961693 | B11: 2016 | C11: 2018 | D11: HRD-12MW Diesel Generation | E11: Purchase of 12 MW Diesel Generation - Holyrood | F11: 4700 | G11: 4959.3215 | I11: =G11-F11 -> 259.32147 | J11: =I11/F11 -> 0.055174781
A12: 13881791 | B12: 2017 | C12: 2018 | D12: Wabush TS Upgrades (Twinco) | E12: Terminal Station Upgrades - Wabush | F12: 2912.5 | G12: 1962.0603 | I12: =G12-F12 -> -950.43969 | J12: =I12/F12 -> -0.32633122
A13: 13501891 | B13: 2018 | C13: 2018 | D13: WRSB-HampdenWasteTransferSite | E13: Provide Service to Western Regional Servce Board's Waste Transfer Site - Hampden | F13: 748.4 | G13: 644.5 | I13: =G13-F13 -> -103.9 | J13: =I13/F13 -> -0.1388295
A14: 13961891 | B14: 2018 | C14: 2018 | D14: Smokey Mountain-Line Upgrade | E14: Perform Voltage Conversion of the Distribution Feeder VA26 - Labrador City | F14: 719.4 | G14: 705.13706 | I14: =G14-F14 -> -14.26294 | J14: =I14/F14 -> -0.019826161
A15: 12961891 | B15: 2018 | C15: 2018 | D15: HRD-Improve Boiler Capacity | E15: Improve Boiler Capacity - Holyrood | F15: 2560.5 | G15: 1665.9473 | I15: =G15-F15 -> -894.5527 | J15: =I15/F15 -> -0.34936641
A16: 13961892 | B16: 2018 | C16: 2018 | D16: HVY - Gang Switch | E16: Gang Switch - Happy Valley-Goose Bay | F16: 195.4 | G16: 85.19341 | I16: =G16-F16 -> -110.20659 | J16: =I16/F16 -> -0.56400507
... A123: 12962502 | B123: 2025 | C123: 2025 | D123: Overhaul Pumps Holyrood 25 | E123: Overhaul Major Pumps (2025) - Holyrood | F123: 1101.9 | G123: 2826.12 | I123: =G123-F123 -> 1724.22 | J123: =I123/F123 -> 1.5647699
A124: =COUNT(A5:A123) -> 119 | F124: =SUM(F5:F123) -> 212440.69 | G124: =SUM(G5:G123) -> 251112.44 | H124: =SUM(H5:H123) -> 0 | I124: =SUM(I5:I123) -> 38671.747 | J124: =I124/F124 -> 0.1820355
A129: Allowance for Unforeseen Projects Excluded from RFI Response (Revised Statistical Analysis Tab)
A130: By nature of these projects, they do not have a set budget to compare the actuals against. | G130: Actuals
A131: 12931793 | B131: 2017 | C131: 2017 | D131: Emerg Repairs BDE Penstock 1 | E131: Emergency Repairs Penstock #1 - Bay d'Espoir | G131: 4598.7573
A132: 13491791 | B132: 2017 | C132: 2017 | D132: Trans.Line Emergency Refurb | E132: Transmission Line Emergency Refurbishments | G132: 506.17663
A133: 12931891 | B133: 2018 | C133: 2018 | D133: BDE Penstock Refurbishment | E133: Penstock #3 Refurbishment - Bay d'Espoir | G133: 4743.1787
A134: 14011891 | B134: 2018 | C134: 2019 | D134: RIG-Replace Engine 2051 | E134: Replace Engine #2051 - Rigolet | G134: 537.59068
A135: 14111991 | B135: 2019 | C135: 2020 | D135: CHT Diesel Plant Restore Servi | E135: Charlottetown Diesel Plant Restore Service Following Fire | G135: 882.23768

Sheet >>

Sheet REVISED Analysis Data
A1: Project # | B1: Year Started | C1: Year Closed | D1: JDE Title | E1: CBA / CAPEX Title | F1: Budget | G1: Actual Cost | H1: Var $ | I1: Var % | J1: Included/ Excluded in Original Analysis | K1: Reason for Exclusion
A2: 13251602 | B2: 2016 | C2: 2017 | D2: Replace Surge Arrestors | E2: Replace Surge Arrestors - Various Sites | F2: 197.4 | G2: 175.07062 | H2: =+G2-F2 -> -22.32938 | I2: =+H2/F2 -> -0.11311743 | J2: Included in Original Analysis | K2: N/A
A3: 13251606 | B3: 2016 | C3: 2017 | D3: Upgrd Digital Fault Recorders | E3: Upgrade Digital Fault Recorders - Various Sites | F3: 502.5 | G3: 550.03684 | H3: =+G3-F3 -> 47.53684 | I3: =+H3/F3 -> 0.094600677 | J3: Included in Original Analysis | K3: N/A
A4: 13251613 | B4: 2016 | C4: 2017 | D4: Upgrade Warehouse Lighting-BIF | E4: Upgrade Warehouse Lighting - Bishop's Falls | F4: 195.6 | G4: 121.66594 | H4: =+G4-F4 -> -73.93406 | I4: =+H4/F4 -> -0.37798599 | J4: Included in Original Analysis | K4: N/A
A5: 14301601 | B5: 2016 | C5: 2017 | D5: CHD-Upgrd TS Mobile Substation | E5: Upgrade Terminal Station for Mobile Substation - Cow Head | F5: 484.7 | G5: 387.31429 | H5: =+G5-F5 -> -97.38571 | I5: =+H5/F5 -> -0.20091956 | J5: Included in Original Analysis | K5: N/A | R5: Values
A6: 13251708 | B6: 2017 | C6: 2017 | D6: HRD-Upgrd Alum Supp Structures | E6: Upgrade Aluminum Support Structures - Holyrood | F6: 352.9 | G6: 190.81581 | H6: =+G6-F6 -> -162.08419 | I6: =+H6/F6 -> -0.45929212 | J6: Included in Original Analysis | K6: N/A | Q6: Year Closed | R6: Sum of Budget | S6: Sum of Actual Cost | T6: Sum of Var $
A7: 13251715 | B7: 2017 | C7: 2017 | D7: VAR-Upgr Equipment Foundations | E7: Upgrade Equipment Foundations - Various Sites | F7: 389.2 | G7: 245.33595 | H7: =+G7-F7 -> -143.86405 | I7: =+H7/F7 -> -0.36964042 | J7: Included in Original Analysis | K7: N/A | Q7: 2017 | R7: 51531.3 | S7: 48135.702 | T7: -3395.5984 | U7: =GETPIVOTDATA("Sum of Var $ ",$Q$5,"Year Closed",2017)/GETPIVOTDATA("Sum of Budget",$Q$5,"Year Closed",2017) -> -0.065893902
A8: 12421614 | B8: 2016 | C8: 2017 | D8: Hydrometeorological Equipment | E8: Install Hydrometeorological Equipment - Various Sites | F8: 314.1 | G8: 183.34475 | H8: =+G8-F8 -> -130.75525 | I8: =+H8/F8 -> -0.41628542 | J8: Included in Original Analysis | K8: N/A | Q8: 2018 | R8: 128434.9 | S8: 114703.06 | T8: -13731.84 | U8: =GETPIVOTDATA("Sum of Var $ ",$Q$5,"Year Closed",2018)/GETPIVOTDATA("Sum of Budget",$Q$5,"Year Closed",2018) -> -0.10691673
A9: 12811603 | B9: 2016 | C9: 2017 | D9: HLK-Rplc Cntrl/Comm Room A/C | E9: Replace Control Room/Communications Room Air Conditioning - Hinds Lake | F9: 94.3 | G9: 96.41676 | H9: =+G9-F9 -> 2.11676 | I9: =+H9/F9 -> 0.022447084 | J9: Included in Original Analysis | K9: N/A | Q9: 2019 | R9: 391099.13 | S9: 381220.74 | T9: -9878.3898 | U9: =GETPIVOTDATA("Sum of Var $ ",$Q$5,"Year Closed",2019)/GETPIVOTDATA("Sum of Budget",$Q$5,"Year Closed",2019) -> -0.02525802
A10: 12901501 | B10: 2015 | C10: 2017 | D10: CAT-Stat.Serv BRKR Replacement | E10: Replace Station Service Breakers - Cat Arm | F10: 1008.3 | G10: 1036.8004 | H10: =+G10-F10 -> 28.5004 | I10: =+H10/F10 -> 0.028265794 | J10: Included in Original Analysis | K10: N/A | Q10: 2020 | R10: 87133.863 | S10: 65911.428 | T10: -21222.435 | U10: =GETPIVOTDATA("Sum of Var $ ",$Q$5,"Year Closed",2020)/GETPIVOTDATA("Sum of Budget",$Q$5,"Year Closed",2020) -> -0.24356128
A11: 12931509 | B11: 2015 | C11: 2017 | D11: BDE-Upgrade Equipment Doors | E11: Upgrade Equipment Doors - Various Sites | F11: 348.5 | G11: 412.76522 | H11: =+G11-F11 -> 64.26522 | I11: =+H11/F11 -> 0.18440522 | J11: Included in Original Analysis | K11: N/A | Q11: 2021 | R11: 146289.13 | S11: 133293.91 | T11: -12995.216 | U11: =GETPIVOTDATA("Sum of Var $ ",$Q$5,"Year Closed",2021)/GETPIVOTDATA("Sum of Budget",$Q$5,"Year Closed",2021) -> -0.088832415
A12: 12931514 | B12: 2015 | C12: 2017 | D12: EBBE-Accommodations/SepticSyst | E12: Replace Accommodations and Septic System - Ebbegunbaeg | F12: 1550.8 | G12: 2043.4628 | H12: =+G12-F12 -> 492.66282 | I12: =+H12/F12 -> 0.31768302 | J12: Included in Original Analysis | K12: N/A | Q12: 2022 | R12: 62943.075 | S12: 59177.844 | T12: -3765.2315 | U12: =GETPIVOTDATA("Sum of Var $ ",$Q$5,"Year Closed",2022)/GETPIVOTDATA("Sum of Budget",$Q$5,"Year Closed",2022) -> -0.05981963
A13: 12931606 | B13: 2016 | C13: 2017 | D13: BDE-Rplc Station Service XFMR | E13: Replace PH1 Station Service Transformer - Bay d'Espoir | F13: 401.2 | G13: 533.1079 | H13: =+G13-F13 -> 131.9079 | I13: =+H13/F13 -> 0.3287834 | J13: Included in Original Analysis | K13: N/A | Q13: 2023 | R13: 93835.595 | S13: 89924.725 | T13: -3910.8701 | U13: =GETPIVOTDATA("Sum of Var $ ",$Q$5,"Year Closed",2023)/GETPIVOTDATA("Sum of Budget",$Q$5,"Year Closed",2023) -> -0.041677895
A14: 12971702 | B14: 2017 | C14: 2017 | D14: HRD-Upgrade Access Roads | E14: Upgrade Holyrood Access Road - Holyrood | F14: 1162.6 | G14: 825.69315 | H14: =+G14-F14 -> -336.90685 | I14: =+H14/F14 -> -0.28978742 | J14: Included in Original Analysis | K14: N/A | Q14: 2024 | R14: 56323.17 | S14: 61026.144 | T14: 4702.9737 | U14: =GETPIVOTDATA("Sum of Var $ ",$Q$5,"Year Closed",2024)/GETPIVOTDATA("Sum of Budget",$Q$5,"Year Closed",2024) -> 0.083499805
A15: 12421601 | B15: 2016 | C15: 2017 | D15: Rplc Battery Banks & Chargers | E15: Replace Battery Banks and Chargers - Various Sites | F15: 881.6 | G15: 645.24653 | H15: =+G15-F15 -> -236.35347 | I15: =+H15/F15 -> -0.26809604 | J15: Included in Original Analysis | K15: N/A | Q15: 2025 | R15: 38155.873 | S15: 45816.329 | T15: 7660.4555 | U15: =GETPIVOTDATA("Sum of Var $ ",$Q$5,"Year Closed",2025)/GETPIVOTDATA("Sum of Budget",$Q$5,"Year Closed",2025) -> 0.2007674
A16: 12421602 | B16: 2016 | C16: 2017 | D16: Rpl MDR4000 MicrowaveRadioEast | E16: Replace MDR 4000 Microwave Radio East - Various Sites | F16: 1170.5 | G16: 1154.4371 | H16: =+G16-F16 -> -16.06293 | I16: =+H16/F16 -> -0.013723135 | J16: Included in Original Analysis | K16: N/A | Q16: Grand Total | R16: 1055746 | S16: 999209.88 | T16: -56536.152 | U16: =GETPIVOTDATA("Sum of Var $ ",$Q$5)/GETPIVOTDATA("Sum of Budget",$Q$5) -> -0.053550902
A17: 12421603 | B17: 2016 | C17: 2017 | D17: Replace UPS Systems-HydroPlace | E17: Replace UPS Systems - Hydro Place | F17: 889.8 | G17: 978.53091 | H17: =+G17-F17 -> 88.73091 | I17: =+H17/F17 -> 0.099720061 | J17: Included in Original Analysis | K17: N/A
A18: 12421608 | B18: 2016 | C18: 2017 | D18: MDR,HVY-Terminal Station A/C's | E18: Replace Air Conditioners - Various Sites | F18: 191.9 | G18: 196.26076 | H18: =+G18-F18 -> 4.36076 | I18: =+H18/F18 -> 0.022724127 | J18: Included in Original Analysis | K18: N/A
A19: 12421613 | B19: 2016 | C19: 2017 | D19: Powerline Carrier-TL214/TL239 | E19: Replace Powerline Carrier - Various Sites | F19: 836.8 | G19: 762.10997 | H19: =+G19-F19 -> -74.69003 | I19: =+H19/F19 -> -0.089256728 | J19: Included in Original Analysis | K19: N/A | Q19: Groupings
A20: 12421615 | B20: 2016 | C20: 2017 | D20: SBH-Upgrd Telecontrol Facility | E20: Upgrade Telecontrol Facilities - Sandy Brook Hill | F20: 564 | G20: 615.2495 | H20: =+G20-F20 -> 51.2495 | I20: =+H20/F20 -> 0.090867908 | J20: Included in Original Analysis | K20: N/A
A21: 13321601 | B21: 2016 | C21: 2017 | D21: HWD/SVL-Replace Fuel Piping | E21: Replace Fuel Piping - Hardwoods and Stephenville | F21: 311.8 | G21: 267.87251 | H21: =+G21-F21 -> -43.92749 | I21: =+H21/F21 -> -0.14088355 | J21: Included in Original Analysis | K21: N/A | Q21: -0.999 | R21: -0.9
A22: 13321691 | B22: 2016 | C22: 2017 | D22: HWD&SVL GasGen EngineRefurbish | E22: Refurbish Gas Generator Engines - Hardwoods and Stephenville | F22: 3047.1 | G22: 2968.2856 | H22: =+G22-F22 -> -78.81435 | I22: =+H22/F22 -> -0.025865364 | J22: Included in Original Analysis | K22: N/A | Q22: -0.899 | R22: -0.8
A23: 13331405 | B23: 2014 | C23: 2017 | D23: Ugd D.Plt ProdDataCollectEqt | E23: Upgrade Diesel Plant Production Data Collection Equipment-Various | F23: 819.4 | G23: 842.73193 | H23: =+G23-F23 -> 23.33193 | I23: =+H23/F23 -> 0.028474408 | J23: Included in Original Analysis | K23: N/A | Q23: -0.799 | R23: -0.7
A24: 13331603 | B24: 2016 | C24: 2017 | D24: GYR-Instl Variable Freq.Drives | E24: Install Variable Frequency Drives - Grey River | F24: 169.9 | G24: 257.47281 | H24: =+G24-F24 -> 87.57281 | I24: =+H24/F24 -> 0.51543737 | J24: Included in Original Analysis | K24: N/A | Q24: -0.699 | R24: -0.6
A25: 13461605 | B25: 2016 | C25: 2017 | D25: BIF-Replace Service Bldg Roof | E25: Replace Roof on Service Building - Bishop's Falls | F25: 612.8 | G25: 616.34057 | H25: =+G25-F25 -> 3.54057 | I25: =+H25/F25 -> 0.0057776926 | J25: Included in Original Analysis | K25: N/A | Q25: -0.599 | R25: -0.5
A26: 14011604 | B26: 2016 | C26: 2017 | D26: NAN,CTW-Fire Suppression Systm | E26: Install Fire Protection Systems - Cartwright and Nain | F26: 4407.1 | G26: 3652.201 | H26: =+G26-F26 -> -754.899 | I26: =+H26/F26 -> -0.17129155 | J26: Included in Original Analysis | K26: N/A | Q26: -0.499 | R26: -0.4
A27: 14011606 | B27: 2016 | C27: 2017 | D27: Upgrade Transformers POV & CTW | E27: Upgrade Transformer Systems - Postville and Cartwright | F27: 465.2 | G27: 465.18888 | H27: =+G27-F27 -> -0.01112 | I27: =+H27/F27 -> -2.3903697e-05 | J27: Included in Original Analysis | K27: N/A | Q27: -0.399 | R27: -0.3
